BEGIN:VCALENDAR
VERSION:2.0
PRODID:-//ChamberMaster//Event Calendar 2.0//EN
METHOD:PUBLISH
X-PUBLISHED-TTL:P3D
REFRESH-INTERVAL:P3D
CALSCALE:GREGORIAN
BEGIN:VEVENT
DTSTART:20171004T200000Z
DTEND:20171004T210000Z
X-MICROSOFT-CDO-ALLDAYEVENT:FALSE
SUMMARY:Ribbon Cutting - The Preston Barn at Old Drovers Inn
DESCRIPTION:Join us to celebrate the grand opening of the new addition!
X-ALT-DESC;FMTTYPE=text/html:Join us to celebrate the grand opening of the new addition!&nbsp\;
LOCATION:196 E Duncan Hill Rd Dover Plains\, New York
UID:e.2770.10476056
SEQUENCE:3
DTSTAMP:20260426T033601Z
URL:https://business.dcrcoc.org/events/details/ribbon-cutting-the-preston-barn-at-old-drovers-inn-10476056
END:VEVENT

END:VCALENDAR
