BEGIN:VCALENDAR
VERSION:2.0
PRODID:-//ChamberMaster//Event Calendar 2.0//EN
METHOD:PUBLISH
X-PUBLISHED-TTL:P3D
REFRESH-INTERVAL:P3D
CALSCALE:GREGORIAN
BEGIN:VEVENT
DTSTART:20190905T200000Z
DTEND:20190905T210000Z
X-MICROSOFT-CDO-ALLDAYEVENT:FALSE
SUMMARY:Ribbon Cutting: United Way of the Dutchess-Orange Region
DESCRIPTION:Join us we celebrate their renovated office space!
X-ALT-DESC;FMTTYPE=text/html:Join us we celebrate their renovated office space!
LOCATION:75 Market Street Poughkeepsie
UID:e.2770.10481011
SEQUENCE:3
DTSTAMP:20260422T221144Z
URL:https://business.dcrcoc.org/events/details/ribbon-cutting-united-way-of-the-dutchess-orange-region-10481011
END:VEVENT

END:VCALENDAR
