BEGIN:VCALENDAR
VERSION:2.0
PRODID:-//ChamberMaster//Event Calendar 2.0//EN
METHOD:PUBLISH
X-PUBLISHED-TTL:P3D
REFRESH-INTERVAL:P3D
CALSCALE:GREGORIAN
BEGIN:VEVENT
DTSTART:20181005T200000Z
DTEND:20181005T210000Z
X-MICROSOFT-CDO-ALLDAYEVENT:FALSE
SUMMARY:Ribbon Cutting - Veggie Go-Go
DESCRIPTION:Join us to celebrate the one year anniversary!
X-ALT-DESC;FMTTYPE=text/html:<br />\n<span style="font-size: 16px\;">Join us to celebrate the one year anniversary!</span>
LOCATION:1289 Route 9 South\, Building 2 Wappingers Falls
UID:e.2770.10479704
SEQUENCE:3
DTSTAMP:20260425T114827Z
URL:https://business.dcrcoc.org/events/details/ribbon-cutting-veggie-go-go-10479704
END:VEVENT

END:VCALENDAR
