BEGIN:VCALENDAR
VERSION:2.0
PRODID:-//ChamberMaster//Event Calendar 2.0//EN
METHOD:PUBLISH
X-PUBLISHED-TTL:P3D
REFRESH-INTERVAL:P3D
CALSCALE:GREGORIAN
BEGIN:VEVENT
DTSTART:20180830T160000Z
DTEND:20180830T170000Z
X-MICROSOFT-CDO-ALLDAYEVENT:FALSE
SUMMARY:Ribbon Cutting - Vitality Bowls
DESCRIPTION:Join us to celebrate the grand opening!
X-ALT-DESC;FMTTYPE=text/html:Join us to celebrate the grand opening!
LOCATION:1839 South Road Wappingers Falls\, NY
UID:e.2770.10479350
SEQUENCE:3
DTSTAMP:20260425T144303Z
URL:https://business.dcrcoc.org/events/details/ribbon-cutting-vitality-bowls-10479350
END:VEVENT

END:VCALENDAR
