BEGIN:VCALENDAR
VERSION:2.0
PRODID:-//ChamberMaster//Event Calendar 2.0//EN
METHOD:PUBLISH
X-PUBLISHED-TTL:P3D
REFRESH-INTERVAL:P3D
CALSCALE:GREGORIAN
BEGIN:VEVENT
DTSTART:20171208T210000Z
DTEND:20171208T220000Z
X-MICROSOFT-CDO-ALLDAYEVENT:FALSE
SUMMARY:Ribbon Cutting - Warlock Athletics home of Warlock CrossFit
DESCRIPTION:Join us to celebrate the grand opening of the new facility!
X-ALT-DESC;FMTTYPE=text/html:<span style="font-size:16px\;"><span style="font-family:arial\;">Join us to celebrate the grand opening of the new facility!</span></span>
LOCATION:60 Firemens Way\, Poughkeepsie
UID:e.2770.10476374
SEQUENCE:3
DTSTAMP:20260426T005249Z
URL:https://business.dcrcoc.org/events/details/ribbon-cutting-warlock-athletics-home-of-warlock-crossfit-10476374
END:VEVENT

END:VCALENDAR
