BEGIN:VCALENDAR
VERSION:2.0
PRODID:-//ChamberMaster//Event Calendar 2.0//EN
METHOD:PUBLISH
X-PUBLISHED-TTL:P3D
REFRESH-INTERVAL:P3D
CALSCALE:GREGORIAN
BEGIN:VEVENT
DTSTART:20230811T200000Z
DTEND:20230811T203000Z
X-MICROSOFT-CDO-ALLDAYEVENT:FALSE
SUMMARY:Ribbon Cutting - Whalen Architecture\, PLLC
DESCRIPTION:Please join us in celebration of the opening of their new offices!
X-ALT-DESC;FMTTYPE=text/html:Please join us in celebration of the opening of their new offices!
LOCATION:1141 Route 55\, Suite A Lagrangeville\, NY 12540
UID:e.2770.10495206
SEQUENCE:3
DTSTAMP:20260420T040441Z
URL:https://business.dcrcoc.org/events/details/ribbon-cutting-whalen-architecture-pllc-10495206
END:VEVENT

END:VCALENDAR
