BEGIN:VCALENDAR
VERSION:2.0
PRODID:-//ChamberMaster//Event Calendar 2.0//EN
METHOD:PUBLISH
X-PUBLISHED-TTL:P3D
REFRESH-INTERVAL:P3D
CALSCALE:GREGORIAN
BEGIN:VEVENT
DTSTART:20181018T160000Z
DTEND:20181018T170000Z
X-MICROSOFT-CDO-ALLDAYEVENT:FALSE
SUMMARY:Ribbon Cutting - Wild Birds Unlimited
DESCRIPTION:Join us to celebrate the grand opening!
X-ALT-DESC;FMTTYPE=text/html:Join us to celebrate the grand opening!
LOCATION:The Chestnut Plaza 2020 South Road\, Suite 18 Poughkeepsie
UID:e.2770.10479706
SEQUENCE:3
DTSTAMP:20260425T114948Z
URL:https://business.dcrcoc.org/events/details/ribbon-cutting-wild-birds-unlimited-10479706
END:VEVENT

END:VCALENDAR
