BEGIN:VCALENDAR
VERSION:2.0
PRODID:-//ChamberMaster//Event Calendar 2.0//EN
METHOD:PUBLISH
X-PUBLISHED-TTL:P3D
REFRESH-INTERVAL:P3D
CALSCALE:GREGORIAN
BEGIN:VEVENT
DTSTART:20191118T210000Z
DTEND:20191118T213000Z
X-MICROSOFT-CDO-ALLDAYEVENT:FALSE
SUMMARY:Ribbon Cutting: Wild Oak Barre & Yoga
DESCRIPTION:Join us for the grand opening!
X-ALT-DESC;FMTTYPE=text/html:Join us for the grand opening!
LOCATION:1820 New Hackensack Road\, Suite 2B Poughkeepsie
UID:e.2770.10481469
SEQUENCE:3
DTSTAMP:20260422T171134Z
URL:https://business.dcrcoc.org/events/details/ribbon-cutting-wild-oak-barre-yoga-10481469
END:VEVENT

END:VCALENDAR
