BEGIN:VCALENDAR
VERSION:2.0
PRODID:-//ChamberMaster//Event Calendar 2.0//EN
METHOD:PUBLISH
X-PUBLISHED-TTL:P3D
REFRESH-INTERVAL:P3D
CALSCALE:GREGORIAN
BEGIN:VEVENT
DTSTART:20171110T210000Z
DTEND:20171110T220000Z
X-MICROSOFT-CDO-ALLDAYEVENT:FALSE
SUMMARY:Ribbon Cutting - XTRA CHANGE
DESCRIPTION:Join us to celebrate the grand opening!
X-ALT-DESC;FMTTYPE=text/html:<span style="font-size:16px\;"><span style="color: rgb(51\, 51\, 51)\; font-family: sans-serif\, Arial\, Verdana\, &quot\;Trebuchet MS&quot\;\; background-color: rgb(255\, 255\, 255)\;">Join us to celebrate the grand opening!</span></span>
LOCATION:310 Titusville Rd Poughkeepsie\, NY 12603
UID:e.2770.10476363
SEQUENCE:3
DTSTAMP:20260426T020441Z
URL:https://business.dcrcoc.org/events/details/ribbon-cutting-xtra-change-10476363
END:VEVENT

END:VCALENDAR
