BEGIN:VCALENDAR
VERSION:2.0
PRODID:-//ChamberMaster//Event Calendar 2.0//EN
METHOD:PUBLISH
X-PUBLISHED-TTL:P3D
REFRESH-INTERVAL:P3D
CALSCALE:GREGORIAN
BEGIN:VEVENT
DTSTART:20180112T170000Z
DTEND:20180112T180000Z
X-MICROSOFT-CDO-ALLDAYEVENT:FALSE
SUMMARY:Ribbon Cutting - Youth Mission Outreach\, Inc.-Needle in a Haystack
DESCRIPTION:Join us to celebrate the grand opening of the new facility!
X-ALT-DESC;FMTTYPE=text/html:<span style="font-size: 16px\;"><span style="font-family: arial\;">Join us to celebrate the grand opening of the new facility!</span></span><br />\n<br />\n&nbsp\;
LOCATION:30 North Grand Ave. Poughkeepsie
UID:e.2770.10476635
SEQUENCE:3
DTSTAMP:20260425T232406Z
URL:https://business.dcrcoc.org/events/details/ribbon-cutting-youth-mission-outreach-inc-needle-in-a-haystack-10476635
END:VEVENT

END:VCALENDAR
