BEGIN:VCALENDAR
VERSION:2.0
PRODID:-//ChamberMaster//Event Calendar 2.0//EN
METHOD:PUBLISH
X-PUBLISHED-TTL:P3D
REFRESH-INTERVAL:P3D
CALSCALE:GREGORIAN
BEGIN:VEVENT
DTSTART:20190503T223000Z
DTEND:20190504T020000Z
X-MICROSOFT-CDO-ALLDAYEVENT:FALSE
SUMMARY:Rich Guzzi Comedy Hypnosis
DESCRIPTION:Rich is the Hypnotist Heard on FREE BEER & HOT WINGS\, JOHN BOY & BILLY and BUBBA THE LOVE SPONGE Radio Shows\, Parade Magazine\, TMZ & Access Hollywood! Watch as Rich invites volunteers from the audience to get hypnotized on stage right before your eyes then be amazed at what happens next when he gives them suggestions to do the most outrageously funny things you can possibly imagine.
X-ALT-DESC;FMTTYPE=text/html:Rich is the Hypnotist Heard on FREE BEER &amp\; HOT WINGS\, JOHN BOY &amp\; BILLY and BUBBA THE LOVE SPONGE Radio Shows\, Parade Magazine\, TMZ &amp\; Access Hollywood! Watch as Rich invites volunteers from the audience to get hypnotized on stage right before your eyes then be amazed at what happens next when he gives them suggestions to do the most outrageously funny things you can possibly imagine.
LOCATION:Putnam County Golf Course
UID:e.2770.10480718
SEQUENCE:3
DTSTAMP:20260423T044805Z
URL:https://business.dcrcoc.org/events/details/rich-guzzi-comedy-hypnosis-10480718
END:VEVENT

END:VCALENDAR
