BEGIN:VCALENDAR
VERSION:2.0
PRODID:-//ChamberMaster//Event Calendar 2.0//EN
METHOD:PUBLISH
X-PUBLISHED-TTL:P3D
REFRESH-INTERVAL:P3D
CALSCALE:GREGORIAN
BEGIN:VEVENT
DTSTART:20190921T220000Z
DTEND:20190922T020000Z
X-MICROSOFT-CDO-ALLDAYEVENT:FALSE
SUMMARY:Roaring Twenties Musical Murder Mystery Dinner
DESCRIPTION:A fun annual fundraiser for the Cunneen-Hackett Arts Center in their historic Grand Parlor. Delicious appetizers\, entree\, dessert and drinks plus Sherlock Tracy\, the singing detective "who solves crimes by singing snippets of songs" returns. Can you help find the mystery killer? Grand prize is an over-night stay with breakfast at the Poughkeepsie Grand Hotel. Prize awarded for best period costume. Costumes encouraged\, but not required. Limited seating\, so order your tickets early.
X-ALT-DESC;FMTTYPE=text/html:A fun annual fundraiser for the Cunneen-Hackett Arts Center in their historic Grand Parlor. Delicious appetizers\, entree\, dessert and drinks plus Sherlock Tracy\, the singing detective &quot\;who solves crimes by singing snippets of songs&quot\; returns. Can you help find the mystery killer? Grand prize is an over-night stay with breakfast at the Poughkeepsie Grand Hotel. Prize awarded for best period costume. Costumes encouraged\, but not required. Limited seating\, so order your tickets early.
LOCATION:Cunneen-Hackett Arts Center 9 Vassar Street Poughkeepsie\, NY 12601
UID:e.2770.10481004
SEQUENCE:3
DTSTAMP:20260422T215702Z
URL:https://business.dcrcoc.org/events/details/roaring-twenties-musical-murder-mystery-dinner-10481004
END:VEVENT

END:VCALENDAR
