BEGIN:VCALENDAR
VERSION:2.0
PRODID:-//ChamberMaster//Event Calendar 2.0//EN
METHOD:PUBLISH
X-PUBLISHED-TTL:P3D
REFRESH-INTERVAL:P3D
CALSCALE:GREGORIAN
BEGIN:VEVENT
DTSTART;VALUE=DATE:20180515
DTEND;VALUE=DATE:20180516
TRANSP:TRANSPARENT
X-MICROSOFT-CDO-ALLDAYEVENT:TRUE
SUMMARY:Rocky Strong Meet & Greet
DESCRIPTION:Come learn about Rocky Strong\, a local non-profit serving families in Dutchess County and surrounding areas who unexpectedly become caregivers when a loved one falls suddenly and seriously ill.  We would like to share with you our mission and the impact we have on the community in which we live\, give\, and love.  We are holding an informal Meet & Greet and welcome residents and businesses in the community to attend and learn about who we are\, why we are here\, and what we do.\n\nLight refreshments will be served.
X-ALT-DESC;FMTTYPE=text/html:Come learn about Rocky Strong\, a local non-profit serving families in Dutchess County and surrounding areas who unexpectedly become caregivers when a loved one falls suddenly and seriously ill.&nbsp\; We would like to share with you our mission and the impact we have on the community in which we live\, give\, and love.&nbsp\; We are holding an informal Meet &amp\; Greet and welcome residents and businesses in the community to attend and learn about who we are\, why we are here\, and what we do.<br />\nLight refreshments will be served.
LOCATION:NYS Parks Regional Office 9 Old Post Road\, Staatsburg\, NY 12580
UID:e.2770.10477638
SEQUENCE:3
DTSTAMP:20260425T181824Z
URL:https://business.dcrcoc.org/events/details/rocky-strong-meet-greet-10477638
END:VEVENT

END:VCALENDAR
