BEGIN:VCALENDAR
VERSION:2.0
PRODID:-//ChamberMaster//Event Calendar 2.0//EN
METHOD:PUBLISH
X-PUBLISHED-TTL:P3D
REFRESH-INTERVAL:P3D
CALSCALE:GREGORIAN
BEGIN:VEVENT
DTSTART:20180816T210000Z
DTEND:20180817T000000Z
X-MICROSOFT-CDO-ALLDAYEVENT:FALSE
SUMMARY:Rocky Strong's "Raise a Glass"
DESCRIPTION:Join us in raising our glasses to toast Christine Ault and her 4th anniversary in heaven. Family and friends of Rocky Strong welcome you to Coppola's Italian American Bistro in Hyde Park\, NY on Thursday\, August 16 from 5 - 8 pm for an all you can eat buffet\, cash bar\, and music by the Von Fancy Trio. Proceeds from the event\, including ALL CASH TIPS will benefit the programs and mission of Rocky Strong to provide financial assistance to caregivers and their seriously ill family member currently in treatment and demonstrating financial need in Dutchess County and the surrounding area. (Please note\, our services focus on families with a child or children in the household under age 18.) Price: $20 person at the Door Please note\, cash is best for this event! Questions: rockystrong023@gmail.com
X-ALT-DESC;FMTTYPE=text/html:Join us in raising our glasses to toast Christine Ault and her 4th anniversary in heaven. Family and friends of Rocky Strong welcome you to Coppola&#39\;s Italian American Bistro in Hyde Park\, NY on Thursday\, August 16 from 5 - 8 pm for an all you can eat buffet\, cash bar\, and music by the Von Fancy Trio. Proceeds from the event\, including ALL CASH TIPS will benefit the programs and mission of Rocky Strong to provide financial assistance to caregivers and their seriously ill family member currently in treatment and demonstrating financial need in Dutchess County and the surrounding area. (Please note\, our services focus on families with a child or children in the household under age 18.) Price: $20 person at the Door Please note\, cash is best for this event! Questions: rockystrong023@gmail.com
LOCATION:Coppola's Italian American Bistro 4167 Albany Post Road Hyde Park\, NY 12538
UID:e.2770.10479339
SEQUENCE:3
DTSTAMP:20260425T144303Z
URL:https://business.dcrcoc.org/events/details/rocky-strong-s-raise-a-glass-10479339
END:VEVENT

END:VCALENDAR
