BEGIN:VCALENDAR
VERSION:2.0
PRODID:-//ChamberMaster//Event Calendar 2.0//EN
METHOD:PUBLISH
X-PUBLISHED-TTL:P3D
REFRESH-INTERVAL:P3D
CALSCALE:GREGORIAN
BEGIN:VEVENT
DTSTART:20181206T003000Z
DTEND:20181206T043000Z
X-MICROSOFT-CDO-ALLDAYEVENT:FALSE
SUMMARY:Roger's Folly at the Historic Howland Center
DESCRIPTION:Join us Wednesday\, December 5th for another night of Swing\, Blues\, and all types of dancing at Roger's Folly's beautiful indoor winter venue at the Historic Howland Center. There will be a free beginners lesson at 7:30pm followed by a DJ Dance at 8:00pm. The Howland Center 477 Main Street\, Beacon NY $15 Admission 7:30pm: Free Beginners Lesson 8:00pm: Dance begins (DJ) For more information\, call or email us at (845) 205 - 2900 or info@innspabeacon.com
X-ALT-DESC;FMTTYPE=text/html:Join us Wednesday\, December 5th for another night of Swing\, Blues\, and all types of dancing at Roger&#39\;s Folly&#39\;s beautiful indoor winter venue at the Historic Howland Center. There will be a free beginners lesson at 7:30pm followed by a DJ Dance at 8:00pm. The Howland Center 477 Main Street\, Beacon NY $15 Admission 7:30pm: Free Beginners Lesson 8:00pm: Dance begins (DJ) For more information\, call or email us at (845) 205 - 2900 or info@innspabeacon.com
LOCATION:The Howland Center 477 Main Street Beacon\, NY 12508
UID:e.2770.10479914
SEQUENCE:3
DTSTAMP:20260425T103925Z
URL:https://business.dcrcoc.org/events/details/roger-s-folly-at-the-historic-howland-center-10479914
END:VEVENT

END:VCALENDAR
