BEGIN:VCALENDAR
VERSION:2.0
PRODID:-//ChamberMaster//Event Calendar 2.0//EN
METHOD:PUBLISH
X-PUBLISHED-TTL:P3D
REFRESH-INTERVAL:P3D
CALSCALE:GREGORIAN
BEGIN:VEVENT
DTSTART:20180325T120000Z
DTEND:20180325T150000Z
X-MICROSOFT-CDO-ALLDAYEVENT:FALSE
SUMMARY:Rombout Fire Co. Pancake Breakfast
DESCRIPTION:Please post/announce: The Rombout Fire Company (901 Main Street) is hosting this event on Sunday\, March 25\, 2018\, at the firehouse from 8 to 11AM. Pancakes\, eggs\, omelet station\, sausage\, bacon\, juice\, coffee and tea. Adults/$10\, Seniors/$9\, Children/$7 (under age 5 is free). For more info call 896-8620 or www.romboutfire.com. Thank you for your continued support.
X-ALT-DESC;FMTTYPE=text/html:Please post/announce: The Rombout Fire Company (901 Main Street) is hosting this event on Sunday\, March 25\, 2018\, at the firehouse from 8 to 11AM. Pancakes\, eggs\, omelet station\, sausage\, bacon\, juice\, coffee and tea. Adults/$10\, Seniors/$9\, Children/$7 (under age 5 is free). For more info call 896-8620 or www.romboutfire.com. Thank you for your continued support.
LOCATION:Rombout Fire Station 901 Main St. Fishkill\, NY 12524
UID:e.2770.10476878
SEQUENCE:3
DTSTAMP:20260425T210254Z
URL:https://business.dcrcoc.org/events/details/rombout-fire-co-pancake-breakfast-10476878
END:VEVENT

END:VCALENDAR
