BEGIN:VCALENDAR
VERSION:2.0
PRODID:-//ChamberMaster//Event Calendar 2.0//EN
METHOD:PUBLISH
X-PUBLISHED-TTL:P3D
REFRESH-INTERVAL:P3D
CALSCALE:GREGORIAN
BEGIN:VEVENT
DTSTART:20180530T230000Z
DTEND:20180531T010000Z
X-MICROSOFT-CDO-ALLDAYEVENT:FALSE
SUMMARY:Rondout Savings Bank celebrates 150 years!
DESCRIPTION:Join us as we celebrate 150 years!\n\nRondout Savings Bank officially opened its doors in May of 1868 marking this year its 150th anniversary. This significant milestone is worthy of a special event in recognition of the Bank's part in helping families and businesses save\, borrow\, and manage their finances. In addition\, Rondout Savings Bank has played a significant philanthropic role throughout the communities it serves. This charitable giving has taken form in both countless volunteer hours by the Bank's staff\, as well as generous donations gifted to those non-profit organizations that positively impact our community.\n\nThe event will include speakers and end with the unveiling of a special monument gifted by Rondout Savings Bank to the community. A special gift will be given out while supplies last. Please join us!
X-ALT-DESC;FMTTYPE=text/html:<span style="font-size: medium\;"><span style="font-family: calibri\;">Join us as we celebrate 150 years!</span></span><br />\n<span style="font-size: medium\;"><span style="font-family: calibri\;">Rondout Savings Bank officially opened its doors in May of 1868 marking this year its 150th anniversary. This significant milestone is worthy of a special event in recognition of the Bank&rsquo\;s part in helping families and businesses save\, borrow\, and manage their finances. In addition\, Rondout Savings Bank has played a significant philanthropic role throughout the communities it serves. This charitable giving has taken form in both countless volunteer hours by the Bank&rsquo\;s staff\, as well as generous donations gifted to those non-profit organizations that positively impact our community.</span></span><br />\n<span style="font-size: medium\;"><span style="font-family: calibri\;">The event will include speakers and end with the unveiling of a special monument gifted by Rondout Savings Bank to the community. A special gift will be given out while supplies last. Please join us!</span></span><br />\n&nbsp\;
LOCATION:20 Broadway in the Rondout District
UID:e.2770.10477818
SEQUENCE:3
DTSTAMP:20260425T182015Z
URL:https://business.dcrcoc.org/events/details/rondout-savings-bank-celebrates-150-years-10477818
END:VEVENT

END:VCALENDAR
