BEGIN:VCALENDAR
VERSION:2.0
PRODID:-//ChamberMaster//Event Calendar 2.0//EN
METHOD:PUBLISH
X-PUBLISHED-TTL:P3D
REFRESH-INTERVAL:P3D
CALSCALE:GREGORIAN
BEGIN:VEVENT
DTSTART:20171120T170000Z
DTEND:20171120T190000Z
X-MICROSOFT-CDO-ALLDAYEVENT:FALSE
SUMMARY:Sadie’s Place LLC\, OPEN HOUSE
DESCRIPTION:JUST IN CASE YOU MISSED IT\, WE ARE GOING TO DO IT AGAIN\, PLEASE JOIN US FOR OUR OPEN HOUSE   SADIE'S PLACE NY LLC   Please visit us at Sadie's Place on November 20 during the hours of 12-2 pm. We are a provider of Social Adult Day Services and our goal is improve the quality of life for both the client and the caregiver. If you would like more information about Sadie's Place and our services please call us at or check out our website. We look forward to meeting you!
X-ALT-DESC;FMTTYPE=text/html:JUST IN CASE YOU MISSED IT\, WE ARE GOING TO DO IT AGAIN\, PLEASE JOIN US FOR OUR OPEN HOUSE &ndash\; SADIE&rsquo\;S PLACE NY LLC &ndash\; Please visit us at Sadie&rsquo\;s Place on November 20 during the hours of 12-2 pm. We are a provider of Social Adult Day Services and our goal is improve the quality of life for both the client and the caregiver. If you would like more information about Sadie&rsquo\;s Place and our services please call us at or check out our website. We look forward to meeting you!
LOCATION:Sadie's Place NY is located at 143 Boardman Road\, Bldg 3 in the Town of Poughkeepsie.
UID:e.2770.10476599
SEQUENCE:3
DTSTAMP:20260426T020617Z
URL:https://business.dcrcoc.org/events/details/sadie-s-place-llc-open-house-10476599
END:VEVENT

END:VCALENDAR
