BEGIN:VCALENDAR
VERSION:2.0
PRODID:-//ChamberMaster//Event Calendar 2.0//EN
METHOD:PUBLISH
X-PUBLISHED-TTL:P3D
REFRESH-INTERVAL:P3D
CALSCALE:GREGORIAN
BEGIN:VEVENT
DTSTART:20190918T210000Z
DTEND:20190918T233000Z
X-MICROSOFT-CDO-ALLDAYEVENT:FALSE
SUMMARY:SAFEGUARD FOOD TRUCK AFTER HOURS
DESCRIPTION:PLEASE JOIN US FOR\n\nFOOD TRUCK AFTER HOURS\n\nWednesday\, Sept 18     5pm-7:30pm\n\n\n\nSafeguard Office\n\n15 Manchester Rd\, Poughkeepsie\n\nrsvp to Jerry Martin 453-7101 or Caitlin Martin 656-0685\n\njmartin3@gosafeguard.com\n\ncmartin@gosafeguard.com\n\n\n\nCome and enjoy an evening of networking\, food\, refreshments\n\nand vendor presentations showcasing new and exciting promotional\n\nproducts and apparel
X-ALT-DESC;FMTTYPE=text/html:<div style="text-align: center\;"><span style="font-size:14px"><strong>PLEASE JOIN US FOR<br />\nFOOD TRUCK AFTER HOURS</strong></span><br />\nWednesday\, Sept 18&nbsp\;&nbsp\; &nbsp\; 5pm-7:30pm<br />\n<br />\nSafeguard Office<br />\n15 Manchester Rd\, Poughkeepsie<br />\nrsvp to Jerry Martin 453-7101 or Caitlin Martin 656-0685<br />\njmartin3@gosafeguard.com<br />\ncmartin@gosafeguard.com<br />\n<br />\nCome and enjoy an evening of networking\, food\, refreshments<br />\nand vendor presentations showcasing new and exciting promotional<br />\nproducts and apparel</div>\n
LOCATION:
UID:e.2770.10481168
SEQUENCE:3
DTSTAMP:20260422T221228Z
URL:https://business.dcrcoc.org/events/details/safeguard-food-truck-after-hours-10481168
END:VEVENT

END:VCALENDAR
