BEGIN:VCALENDAR
VERSION:2.0
PRODID:-//ChamberMaster//Event Calendar 2.0//EN
METHOD:PUBLISH
X-PUBLISHED-TTL:P3D
REFRESH-INTERVAL:P3D
CALSCALE:GREGORIAN
BEGIN:VEVENT
DTSTART:20180106T150000Z
DTEND:20180130T210000Z
X-MICROSOFT-CDO-ALLDAYEVENT:FALSE
SUMMARY:Sale: All Adult Fiction & All Children & Teen Books! Jan 2 -30
DESCRIPTION:All Adult Fiction will be on sale at 50 cents for hardcover books\, 25 cents for oversize paperbacks and 10 cents for regular paperbacks. That includes General Fiction\, Mysteries\, Romance\, Science Fiction and Large Print books. Children's and Young Adult Fiction and Non-Fiction books will be on sale at 25 cents for hardcover books and 10 cents for all paperbacks. We have more than 20\,000 books on the shelves in a wide variety of categories\, so while you're stocking up on fiction\, take a look at all these other books\, available at our regular prices of $2.00 or less. Friends' volunteers replenish the shelves continually from the large inventory of presorted quality books donated by the community\, so there are new additions every day. The Book Store is open from 10 am to 4pm on Tuesdays\, Thursdays and Saturdays. Located behind the Boardman Road Branch Library\, 141 Boardman Road\, on the south side of the building -- Look for the door with the Blue Awning! Cash\, checks (with valid ID)\, MC\, Visa and Discover accepted.
X-ALT-DESC;FMTTYPE=text/html:All Adult Fiction will be on sale at 50 cents for hardcover books\, 25 cents for oversize paperbacks and 10 cents for regular paperbacks. That includes General Fiction\, Mysteries\, Romance\, Science Fiction and Large Print books. Children&rsquo\;s and Young Adult Fiction and Non-Fiction books will be on sale at 25 cents for hardcover books and 10 cents for all paperbacks. We have more than 20\,000 books on the shelves in a wide variety of categories\, so while you&rsquo\;re stocking up on fiction\, take a look at all these other books\, available at our regular prices of $2.00 or less. Friends&rsquo\; volunteers replenish the shelves continually from the large inventory of presorted quality books donated by the community\, so there are new additions every day. The Book Store is open from 10 am to 4pm on Tuesdays\, Thursdays and Saturdays. Located behind the Boardman Road Branch Library\, 141 Boardman Road\, on the south side of the building -- Look for the door with the Blue Awning! Cash\, checks (with valid ID)\, MC\, Visa and Discover accepted.
LOCATION:Friends' Book Store 141 Boardman Road Poughkeepsie\, NY 12603 (behind Library - look for the blue awning)
UID:e.2770.10476679
SEQUENCE:3
DTSTAMP:20260425T232537Z
URL:https://business.dcrcoc.org/events/details/sale-all-adult-fiction-all-children-teen-books-jan-2-30-10476679
END:VEVENT

END:VCALENDAR
