BEGIN:VCALENDAR
VERSION:2.0
PRODID:-//ChamberMaster//Event Calendar 2.0//EN
METHOD:PUBLISH
X-PUBLISHED-TTL:P3D
REFRESH-INTERVAL:P3D
CALSCALE:GREGORIAN
BEGIN:VEVENT
DTSTART:20191005T150000Z
DTEND:20191005T200000Z
X-MICROSOFT-CDO-ALLDAYEVENT:FALSE
SUMMARY:Sanctuary Magazine Annual Event: A Day of Wellness\, Mindfulness & Camaraderie
DESCRIPTION:Women's mini wellness retreat: 5 wellness workshops (vision board/goal setting\, reflexology\, skin care treatment\, time management\, holistic nutrition)\, giveaways\, door prize\, raffle and more! LUNCH PROVIDED. Note: $60 early bird special through 9/10/19.\n\nRegister link: https://www.sanctuary-magazine.com/sanctuary-events.html\n\nContact: editors@sanctuary-magazine.com (for questions)
X-ALT-DESC;FMTTYPE=text/html:<span style="font-size:12pt\;"><span style="font-family:times new roman\,serif\;"><span style="color:black\;">Women&#39\;s mini wellness retreat: 5 wellness workshops (vision board/goal setting\, reflexology\, skin care treatment\, time management\, holistic nutrition)\, giveaways\, door prize\, raffle and more! LUNCH PROVIDED. Note: $60 early bird special through 9/10/19.<br />\nRegister link: <span style="color:#0000ff\;"><a href="https://nam04.safelinks.protection.outlook.com/?url=https%3A%2F%2Fwww.sanctuary-magazine.com%2Fsanctuary-events.html&amp\;data=02%7C01%7Crichk%40dcrcoc.org%7Cff82ea4c28ea421d409408d722a2d13f%7C2f12d5574b0742e1bc30171797d71f6b%7C1%7C0%7C637015955020505232&amp\;sdata=axCpplfSh9Hek%2FZj965ca0YOeLXN8uL5IjmADr30cQk%3D&amp\;reserved=0">https://www.sanctuary-magazine.com/sanctuary-events.html</a></span><br />\nContact: <a>editors@sanctuary-magazine.com</a> (for questions)</span></span></span><br />\n&nbsp\;
LOCATION:Rhinebeck Healing Arts Barn 5897 Route 9 Rhinebeck\, NY
UID:e.2770.10481145
SEQUENCE:3
DTSTAMP:20260422T183345Z
URL:https://business.dcrcoc.org/events/details/sanctuary-magazine-annual-event-a-day-of-wellness-mindfulness-camaraderie-10481145
END:VEVENT

END:VCALENDAR
