BEGIN:VCALENDAR
VERSION:2.0
PRODID:-//ChamberMaster//Event Calendar 2.0//EN
METHOD:PUBLISH
X-PUBLISHED-TTL:P3D
REFRESH-INTERVAL:P3D
CALSCALE:GREGORIAN
BEGIN:VEVENT
DTSTART:20191208T163000Z
DTEND:20191208T190000Z
X-MICROSOFT-CDO-ALLDAYEVENT:FALSE
SUMMARY:Santa Brunch at The Links
DESCRIPTION:"Join us for a Delicious Brunch Buffet! \n\n\n\nOur Annual "Brunch with Santa" has become a Family Tradition for many folks in and around the Hudson Valley so the seats tend to fill up quick Reserve your table today!\n\n\n\nFeaturing all your Brunch favorites- Eggs Benedict\, an Omlette Station\, Steak and Turkey Carving Station\, a variety of Salads\, a Dessert Table with a Sundae Bar\, Cakes\, Pastries\, and so much more!\n\n\n\nSanta and Mrs. Claus will be there to take photos and will have goodie bags for the kids! It's an awesome way to spend time with your family and friends! \n\n\n\nPlease call 845.223.1002\, or email Sales@luvgolf.com \, to make your reservation NOW!\n\n\n\nAdults $32.99 and Kids (3-10) $18.99\n\n\n\nKids under 3 are FREE!"
X-ALT-DESC;FMTTYPE=text/html:<span style="color:rgb(29\, 33\, 41)\; font-family:helvetica\,arial\,sans-serif\; font-size:14px">&ldquo\;Join us for a Delicious Brunch Buffet! </span><br />\n<br />\n<span style="color:rgb(29\, 33\, 41)\; font-family:helvetica\,arial\,sans-serif\; font-size:14px">Our Annual &ldquo\;Brunch with Santa&rdquo\; has become a Family Tradition for many folks in and around the Hudson Valley so the seats tend to fill up quick&hellip\;Reserve your table today!</span><br />\n<br />\n<span style="color:rgb(29\, 33\, 41)\; font-family:helvetica\,arial\,sans-serif\; font-size:14px">Featuring all your Brunch favorites- Eggs Benedict\, an Omlette Station\, Steak and Turkey Carving Station\, a variety of Salads\, a Dessert Table with a Sundae Bar\, Cakes\, Pastries\, and so much more!</span><br />\n<br />\n<span style="color:rgb(29\, 33\, 41)\; font-family:helvetica\,arial\,sans-serif\; font-size:14px">Santa and Mrs. Claus will be there to take photos and will have goodie bags for the kids! It&rsquo\;s an awesome way to spend time with your family and friends! </span><br />\n<br />\n<span style="color:rgb(29\, 33\, 41)\; font-family:helvetica\,arial\,sans-serif\; font-size:14px">Please call 845.223.1002\, or email Sales@luvgolf.com \, to make your reservation NOW!</span><br />\n<br />\n<span style="color:rgb(29\, 33\, 41)\; font-family:helvetica\,arial\,sans-serif\; font-size:14px">Adults $32.99 and Kids (3-10) $18.99</span><br />\n<br />\n<span style="color:rgb(29\, 33\, 41)\; font-family:helvetica\,arial\,sans-serif\; font-size:14px">Kids under 3 are FREE!&rdquo\;</span>
LOCATION:The Links at Union Vale 153 North Parliman Road LaGrangeville\, NY 12540
UID:e.2770.10482554
SEQUENCE:3
DTSTAMP:20260422T150734Z
URL:https://business.dcrcoc.org/events/details/santa-brunch-at-the-links-12-08-2019-10482554
END:VEVENT

END:VCALENDAR
