BEGIN:VCALENDAR
VERSION:2.0
PRODID:-//ChamberMaster//Event Calendar 2.0//EN
METHOD:PUBLISH
X-PUBLISHED-TTL:P3D
REFRESH-INTERVAL:P3D
CALSCALE:GREGORIAN
BEGIN:VEVENT
DTSTART:20171209T140000Z
DTEND:20171209T190000Z
X-MICROSOFT-CDO-ALLDAYEVENT:FALSE
SUMMARY:Santa's Visit to Fishkill
DESCRIPTION:Bring your children to meet Santa Clause- Free gift for every child\, free pony rides Animal exhibit\, Newburg Military\, Dutchess County Renegades and tons of fun!
X-ALT-DESC;FMTTYPE=text/html:Bring your children to meet Santa Clause- Free gift for every child\, free pony rides Animal exhibit\, Newburg Military\, Dutchess County Renegades and tons of fun!
LOCATION:Hawthorn Suites by Wyndham Fishkill- 14 Schuyler Blvd. Fishkill\, NY 12524
UID:e.2770.10476451
SEQUENCE:3
DTSTAMP:20260426T020451Z
URL:https://business.dcrcoc.org/events/details/santa-s-visit-to-fishkill-10476451
END:VEVENT

END:VCALENDAR
