BEGIN:VCALENDAR
VERSION:2.0
PRODID:-//ChamberMaster//Event Calendar 2.0//EN
METHOD:PUBLISH
X-PUBLISHED-TTL:P3D
REFRESH-INTERVAL:P3D
CALSCALE:GREGORIAN
BEGIN:VEVENT
DTSTART:20171130T000000Z
DTEND:20171130T003000Z
X-MICROSOFT-CDO-ALLDAYEVENT:FALSE
SUMMARY:Science Night
DESCRIPTION:Learn the science behind a biotech device coming to market. Geared toward physicians and healthcare practitioners. Company website is www.elecrofuse.com Talk is 7-7:30\; Q&A Dialogue Welcomed. Standing room only. RSVP via FaceBook or eMail Mandatory. esupport@elecrofuse.com
X-ALT-DESC;FMTTYPE=text/html:Learn the science behind a biotech device coming to market. Geared toward physicians and healthcare practitioners. Company website is www.elecrofuse.com Talk is 7-7:30\; Q&amp\;A Dialogue Welcomed. Standing room only. RSVP via FaceBook or eMail Mandatory. esupport@elecrofuse.com
LOCATION:The Sanctuary 5 Academy Street New Paltz\, NY 12561
UID:e.2770.10476551
SEQUENCE:3
DTSTAMP:20260426T020335Z
URL:https://business.dcrcoc.org/events/details/science-night-11-29-2017-10476551
END:VEVENT

END:VCALENDAR
