BEGIN:VCALENDAR
VERSION:2.0
PRODID:-//ChamberMaster//Event Calendar 2.0//EN
METHOD:PUBLISH
X-PUBLISHED-TTL:P3D
REFRESH-INTERVAL:P3D
CALSCALE:GREGORIAN
BEGIN:VEVENT
DTSTART:20190924T223000Z
DTEND:20190925T000000Z
X-MICROSOFT-CDO-ALLDAYEVENT:FALSE
SUMMARY:SCORE Workshop-Insurance Considerations for Small Businesses
DESCRIPTION:This seminar\, by Patrick C. Moore\, CPCU\, retired partner of Antalek & Moore Insurance Agency LLC\, will focus on insurance issues a small business needs to consider necessary to operate and to adequately protect themselves.  Issues addressed will be:\n\n \n\n          Property Coverage   a discussion about properly insuring your business property and will include a discussion of in-home businesses\n\n          Liability Coverage   this is protection should you injury someone or their property.  Many small businesses are required to certify to customers they are properly insured.\n\n          Employer Related Coverage   a  discussion of coverage required by  NYS\,  employees vs independent  contractors\, employee theft and your liability as an employer\n\n          Other Coverages Businesses Should Consider   cyber related coverages\, financial guarantee  insurance etc.\n\nThis session will be helpful to guide you in a knowledgeable way as you consult with your professional insurance broker.
X-ALT-DESC;FMTTYPE=text/html:<p style="margin: 0px\; text-align: justify\;"><span style="margin: 0px\; font-family: &quot\;Arial&quot\;\,sans-serif\; font-size: 10pt\;"><font color="#000000">This seminar\, by Patrick C. Moore\, CPCU\, retired partner of Antalek &amp\; Moore Insurance Agency LLC\, will focus on insurance issues a small business needs to consider necessary to operate and to adequately protect themselves.<span style="margin: 0px\;">&nbsp\; </span>Issues addressed will be:</font></span></p>\n\n<p style="margin: 0px\; text-align: justify\;"><b><span style="margin: 0px\; font-family: &quot\;Arial&quot\;\,sans-serif\; font-size: 10pt\;"><span style="margin: 0px\;"><font color="#000000">&nbsp\;</font></span></span></b></p>\n\n<p style="margin: 0px 0px 0px 48px\; text-indent: -0.25in\;"><font color="#000000"><span style="margin: 0px\; font-family: Symbol\; font-size: 10pt\;"><span style="margin: 0px\;">&middot\;<span style="font: 7pt &quot\;Times New Roman&quot\;\; margin: 0px\; font-size-adjust: none\; font-stretch: normal\;">&nbsp\;&nbsp\;&nbsp\;&nbsp\;&nbsp\;&nbsp\;&nbsp\;&nbsp\; </span></span></span><span style="margin: 0px\; font-family: &quot\;Arial&quot\;\,sans-serif\; font-size: 10pt\;">Property Coverage &ndash\; a discussion about properly insuring your business property and will include a discussion of in-home businesses</span></font></p>\n\n<p style="margin: 0px 0px 0px 48px\; text-indent: -0.25in\;"><font color="#000000"><span style="margin: 0px\; font-family: Symbol\; font-size: 10pt\;"><span style="margin: 0px\;">&middot\;<span style="font: 7pt &quot\;Times New Roman&quot\;\; margin: 0px\; font-size-adjust: none\; font-stretch: normal\;">&nbsp\;&nbsp\;&nbsp\;&nbsp\;&nbsp\;&nbsp\;&nbsp\;&nbsp\; </span></span></span><span style="margin: 0px\; font-family: &quot\;Arial&quot\;\,sans-serif\; font-size: 10pt\;">Liability Coverage &ndash\; this is protection should you injury someone or their property.<span style="margin: 0px\;">&nbsp\; </span>Many small businesses are required to certify to customers they are properly insured.</span></font></p>\n\n<p style="margin: 0px 0px 0px 48px\; text-indent: -0.25in\;"><font color="#000000"><span style="margin: 0px\; font-family: Symbol\; font-size: 10pt\;"><span style="margin: 0px\;">&middot\;<span style="font: 7pt &quot\;Times New Roman&quot\;\; margin: 0px\; font-size-adjust: none\; font-stretch: normal\;">&nbsp\;&nbsp\;&nbsp\;&nbsp\;&nbsp\;&nbsp\;&nbsp\;&nbsp\; </span></span></span><span style="margin: 0px\; font-family: &quot\;Arial&quot\;\,sans-serif\; font-size: 10pt\;">Employer Related Coverage &ndash\; a<span style="margin: 0px\;">&nbsp\; </span>discussion of coverage required by<span style="margin: 0px\;">&nbsp\; </span>NYS\,<span style="margin: 0px\;">&nbsp\; </span>employees vs independent<span style="margin: 0px\;">&nbsp\; </span>contractors\, employee theft and your liability as an employer</span></font></p>\n\n<p style="margin: 0px 0px 0px 48px\; text-indent: -0.25in\;"><font color="#000000"><span style="margin: 0px\; font-family: Symbol\; font-size: 10pt\;"><span style="margin: 0px\;">&middot\;<span style="font: 7pt &quot\;Times New Roman&quot\;\; margin: 0px\; font-size-adjust: none\; font-stretch: normal\;">&nbsp\;&nbsp\;&nbsp\;&nbsp\;&nbsp\;&nbsp\;&nbsp\;&nbsp\; </span></span></span><span style="margin: 0px\; font-family: &quot\;Arial&quot\;\,sans-serif\; font-size: 10pt\;">Other Coverages Businesses Should Consider &ndash\; cyber related coverages\, financial guarantee<span style="margin: 0px\;">&nbsp\; </span>insurance etc.</span></font></p>\n\n<p style="background: white\; margin: 0px\;"><span style="margin: 0px\; font-family: &quot\;Arial&quot\;\,sans-serif\; font-size: 10pt\;"><font color="#000000">This session will be helpful to guide you in a knowledgeable way as you consult with your professional insurance broker.</font></span></p>\n\n<p style="margin: 0px\;"><span style="margin: 0px\; font-family: &quot\;Arial&quot\;\,sans-serif\; font-size: 10pt\;"><font color="#000000">&nbsp\;</font></span></p>\n
LOCATION:Alley Room at the East Fishkill Community Library
UID:e.2770.10480442
SEQUENCE:3
DTSTAMP:20260422T220905Z
URL:https://business.dcrcoc.org/events/details/score-workshop-insurance-considerations-for-small-businesses-10480442
END:VEVENT

END:VCALENDAR
