BEGIN:VCALENDAR
VERSION:2.0
PRODID:-//ChamberMaster//Event Calendar 2.0//EN
METHOD:PUBLISH
X-PUBLISHED-TTL:P3D
REFRESH-INTERVAL:P3D
CALSCALE:GREGORIAN
BEGIN:VEVENT
DTSTART:20190625T223000Z
DTEND:20190626T000000Z
X-MICROSOFT-CDO-ALLDAYEVENT:FALSE
SUMMARY:SCORE Workshop- Proper Business Planning to Avoid Legal Mistakes
DESCRIPTION:If you are looking to start or expand an existing business in New York\, you should attend this seminar where experts in legal real estate and funding will walk you through the first and most important steps of launching and expanding your business. This session will not only provide you with what to do\, but it will also explain what can go wrong and how to avoid common mistakes that can prolong an opening or shut down a business.\n\nReal-life examples of business situations with legal ramifications & how to avoid them:\n\n          Best real estate practices in scouting new locations and negotiating contracts\n\n          Securing funding for a new business or expansion\n\n          Applying for a permit and licensing laws\, liquor licenses\, leases and land purchases\n\n          How to protect yourself with strong partnership agreements and contracts
X-ALT-DESC;FMTTYPE=text/html:<p style="margin: 0px\;"><u><span style="margin: 0px\; color: rgb(0\, 0\, 153)\; font-family: &quot\;Arial&quot\;\,sans-serif\;"><span style="margin: 0px\; text-decoration: none\;"><font size="3">&nbsp\;</font></span></span></u></p>\n\n<p style="margin: 0px\;"><span style="margin: 0px\; font-family: &quot\;Arial&quot\;\,sans-serif\; font-size: 10pt\;"><font color="#000000">If you are looking to start or expand an existing business in New York\, you should attend this seminar where experts in legal real estate and funding will walk you through the first and most important steps of launching and expanding your business. This session will not only provide you with what to do\, but it will also explain what can go wrong and how to avoid common mistakes that can prolong an opening or shut down a business.</font></span></p>\n\n<p style="margin: 0px\;"><span style="margin: 0px\; font-family: &quot\;Arial&quot\;\,sans-serif\; font-size: 10pt\;"><font color="#000000">Real-life examples of business situations with legal ramifications &amp\; how to avoid them:</font></span></p>\n\n<p style="margin: 0px 0px 0px 48px\; text-indent: -0.25in\;"><font color="#000000"><span style="margin: 0px\; font-family: Symbol\; font-size: 10pt\;"><span style="margin: 0px\;">&middot\;<span style="font: 7pt &quot\;Times New Roman&quot\;\; margin: 0px\; font-size-adjust: none\; font-stretch: normal\;">&nbsp\;&nbsp\;&nbsp\;&nbsp\;&nbsp\;&nbsp\;&nbsp\;&nbsp\; </span></span></span><span style="margin: 0px\; font-family: &quot\;Arial&quot\;\,sans-serif\; font-size: 10pt\;">Best real estate practices in scouting new locations and negotiating contracts</span></font></p>\n\n<p style="margin: 0px 0px 0px 48px\; text-indent: -0.25in\;"><font color="#000000"><span style="margin: 0px\; font-family: Symbol\; font-size: 10pt\;"><span style="margin: 0px\;">&middot\;<span style="font: 7pt &quot\;Times New Roman&quot\;\; margin: 0px\; font-size-adjust: none\; font-stretch: normal\;">&nbsp\;&nbsp\;&nbsp\;&nbsp\;&nbsp\;&nbsp\;&nbsp\;&nbsp\; </span></span></span><span style="margin: 0px\; font-family: &quot\;Arial&quot\;\,sans-serif\; font-size: 10pt\;">Securing funding for a new business or expansion</span></font></p>\n\n<p style="margin: 0px 0px 0px 48px\; text-indent: -0.25in\;"><font color="#000000"><span style="margin: 0px\; font-family: Symbol\; font-size: 10pt\;"><span style="margin: 0px\;">&middot\;<span style="font: 7pt &quot\;Times New Roman&quot\;\; margin: 0px\; font-size-adjust: none\; font-stretch: normal\;">&nbsp\;&nbsp\;&nbsp\;&nbsp\;&nbsp\;&nbsp\;&nbsp\;&nbsp\; </span></span></span><span style="margin: 0px\; font-family: &quot\;Arial&quot\;\,sans-serif\; font-size: 10pt\;">Applying for a permit and licensing laws\, liquor licenses\, leases and land purchases</span></font></p>\n\n<p style="margin: 0px 0px 0px 48px\; text-indent: -0.25in\;"><font color="#000000"><span style="margin: 0px\; font-family: Symbol\; font-size: 10pt\;"><span style="margin: 0px\;">&middot\;<span style="font: 7pt &quot\;Times New Roman&quot\;\; margin: 0px\; font-size-adjust: none\; font-stretch: normal\;">&nbsp\;&nbsp\;&nbsp\;&nbsp\;&nbsp\;&nbsp\;&nbsp\;&nbsp\; </span></span></span><span style="margin: 0px\; font-family: &quot\;Arial&quot\;\,sans-serif\; font-size: 10pt\;">How to protect yourself with strong partnership agreements and contracts</span></font></p>\n
LOCATION:Alley Room at the East Fishkill Community Library
UID:e.2770.10480439
SEQUENCE:3
DTSTAMP:20260423T025252Z
URL:https://business.dcrcoc.org/events/details/score-workshop-proper-business-planning-to-avoid-legal-mistakes-10480439
END:VEVENT

END:VCALENDAR
