BEGIN:VCALENDAR
VERSION:2.0
PRODID:-//ChamberMaster//Event Calendar 2.0//EN
METHOD:PUBLISH
X-PUBLISHED-TTL:P3D
REFRESH-INTERVAL:P3D
CALSCALE:GREGORIAN
BEGIN:VEVENT
DTSTART:20191022T223000Z
DTEND:20191023T000000Z
X-MICROSOFT-CDO-ALLDAYEVENT:FALSE
SUMMARY:SCORE Workshop- The Top 10 Legal Considerations for Small Businesses
DESCRIPTION:This seminar\, by Vikas Varma\, Esq. of Crush & Varma Law Group\, will focus on steps to address key legal issues that small businesses face\, including: \n\n \n\nEntity formation\;   Partnership\, Operating and Shareholder Agreements\;   Financing - Securities Laws\, Soliciting Investments\, Lines of Credit\; Negotiation & Deal Term Sheets\;   Non-Disclosure Agreements\; Commercial Leasing\; Employee Agreements/Contracts\;  Non-Competition and Non-Solicitation Agreements\;   Intellectual Property Protection.\n\n \n\nWhether you are deciding on a name for your business\, leasing office space or hiring a new employee\, every business decision has legal implications. Awareness of the legal pitfalls to avoid can save you unnecessary trouble and expense.
X-ALT-DESC;FMTTYPE=text/html:<p style="background: white\; margin: 0px\;">&nbsp\;</p>\n\n<p style="margin: 0px\;"><span style="margin: 0px\; font-family: &quot\;Arial&quot\;\,sans-serif\; font-size: 10pt\;"><font color="#000000">&nbsp\;</font></span></p>\n\n<p style="margin: 0px\; text-align: justify\;"><span style="margin: 0px\; font-family: &quot\;Arial&quot\;\,sans-serif\; font-size: 10pt\;"><font color="#000000">This seminar\, by Vikas Varma\, Esq. of Crush &amp\; Varma Law Group\, will focus on steps to address key legal issues that small businesses face\, including<b>: </b></font></span></p>\n\n<p style="margin: 0px\;"><span style="margin: 0px\; font-family: &quot\;Arial&quot\;\,sans-serif\; font-size: 10pt\;"><font color="#000000">&nbsp\;</font></span></p>\n\n<p style="margin: 0px\;"><span style="margin: 0px\; font-family: &quot\;Arial&quot\;\,sans-serif\; font-size: 10pt\;"><font color="#000000">Entity formation<b>\;</b>&nbsp\;&nbsp\; Partnership\, Operating and Shareholder Agreements\;&nbsp\;&nbsp\; Financing - Securities Laws\, Soliciting Investments\, Lines of Credit\; Negotiation &amp\; Deal Term Sheets\;&nbsp\;&nbsp\; Non-Disclosure Agreements\; Commercial Leasing\; Employee Agreements/Contracts\;&nbsp\; Non-Competition and Non-Solicitation Agreements\;&nbsp\;&nbsp\; Intellectual Property Protection.</font></span></p>\n\n<p style="background: white\; margin: 0px\;"><span style="margin: 0px\; font-family: &quot\;Arial&quot\;\,sans-serif\; font-size: 10pt\;"><font color="#000000">&nbsp\;</font></span></p>\n\n<p style="background: white\; margin: 0px\;"><span style="margin: 0px\; font-family: &quot\;Arial&quot\;\,sans-serif\; font-size: 10pt\;"><font color="#000000">Whether you are deciding on a name for your business\, leasing office space or hiring a new employee\, every business decision has legal implications. Awareness of the legal pitfalls to avoid can save you unnecessary trouble and expense.</font></span></p>\n
LOCATION:
UID:e.2770.10480443
SEQUENCE:3
DTSTAMP:20260422T183308Z
URL:https://business.dcrcoc.org/events/details/score-workshop-the-top-10-legal-considerations-for-small-businesses-10480443
END:VEVENT

END:VCALENDAR
