BEGIN:VCALENDAR
VERSION:2.0
PRODID:-//ChamberMaster//Event Calendar 2.0//EN
METHOD:PUBLISH
X-PUBLISHED-TTL:P3D
REFRESH-INTERVAL:P3D
CALSCALE:GREGORIAN
BEGIN:VEVENT
DTSTART:20180527T003000Z
DTEND:20180527T033000Z
X-MICROSOFT-CDO-ALLDAYEVENT:FALSE
SUMMARY:Sean Von Claus Music Comes to The Alley Kat!
DESCRIPTION:Sean Von Claus Music bringing Funky Country\, Acoustic\, Soul\, Rock Pop & Reggae Music to The Alley Kat! Sit back and enjoy this crazy talented artist while sipping on one of our cocktail specials or one of 14 varieties of beer on tap!\nCheck out the event details on our Facebook page:\n\nSean Von Claus Music comes to The Alley Kat!?
X-ALT-DESC;FMTTYPE=text/html:<p><span style="color:rgb(29\, 33\, 41)\; font-family:system-ui\,-apple-system\,blinkmacsystemfont\,.sfnstext-regular\,sans-serif\; font-size:14px">Sean Von Claus Music bringing Funky Country\, Acoustic\, Soul\, Rock Pop &amp\; Reggae Music to The Alley Kat! Sit back and enjoy this crazy talented artist while sipping on one of our cocktail specials or one of 14 varieties of beer on tap!</span></p>\nCheck out the event details on our Facebook page:<br />\n<a href="https://www.facebook.com/events/163435967659650/">Sean Von Claus Music comes to The Alley Kat!?</a><br />\n<br />\n<br />\n&nbsp\;
LOCATION:The Alley Kat 1677 US 9 Wappingers Falls\, New York\, NY 12590
UID:e.2770.10477790
SEQUENCE:3
DTSTAMP:20260425T182219Z
URL:https://business.dcrcoc.org/events/details/sean-von-claus-music-comes-to-the-alley-kat-05-26-2018-10477790
END:VEVENT

END:VCALENDAR
