BEGIN:VCALENDAR
VERSION:2.0
PRODID:-//ChamberMaster//Event Calendar 2.0//EN
METHOD:PUBLISH
X-PUBLISHED-TTL:P3D
REFRESH-INTERVAL:P3D
CALSCALE:GREGORIAN
BEGIN:VEVENT
DTSTART:20171215T000000Z
DTEND:20171215T040000Z
X-MICROSOFT-CDO-ALLDAYEVENT:FALSE
SUMMARY:Sean Von Claus Music comes to The Alley Kat!
DESCRIPTION:Sean Von Claus Music bringing Funky Country\, Acoustic\, Soul\, Rock Pop & Reggae Music PLUS Christmas Classics to The Alley Kat!\n\n\n\nCheck out the event details on our Facebook page:\n\nSean Von Claus Music comes to The Alley Kat!
X-ALT-DESC;FMTTYPE=text/html:<span style="color:rgb(75\, 79\, 86)\; font-family:system-ui\,-apple-system\,blinkmacsystemfont\,.sfnstext-regular\,sans-serif\; font-size:14px">Sean Von Claus Music bringing Funky Country\, Acoustic\, Soul\, Rock Pop &amp\; Reggae Music PLUS Christmas Classics to The Alley Kat!</span><br />\n<br />\nCheck out the event details on our Facebook page:<br />\n<a href="https://www.facebook.com/events/513995455634275/">Sean Von Claus Music comes to The Alley Kat!</a>
LOCATION:The Alley Kat 1677 US 9 Wappingers Falls\, New York\, NY 12590
UID:e.2770.10476646
SEQUENCE:3
DTSTAMP:20260426T005352Z
URL:https://business.dcrcoc.org/events/details/sean-von-claus-music-comes-to-the-alley-kat-10476646
END:VEVENT

END:VCALENDAR
