BEGIN:VCALENDAR
VERSION:2.0
PRODID:-//ChamberMaster//Event Calendar 2.0//EN
METHOD:PUBLISH
X-PUBLISHED-TTL:P3D
REFRESH-INTERVAL:P3D
CALSCALE:GREGORIAN
BEGIN:VEVENT
DTSTART;VALUE=DATE:20191011
DTEND;VALUE=DATE:20191027
TRANSP:TRANSPARENT
X-MICROSOFT-CDO-ALLDAYEVENT:TRUE
SUMMARY:Second Annual Design Showhouse
DESCRIPTION:This Design Showhouse brings together Hudson Valley designers\, makers and tradespeople to create 16 spaces in uptown Kingston. The proceeds of this event go to Family of Woodstock supporting adolescents who are homeless and without family support.
X-ALT-DESC;FMTTYPE=text/html:<span style="font-family:arial\,helvetica\,sans-serif\; font-size:14px">This Design Showhouse&nbsp\;brings</span><span style="font-family:arial\,helvetica\,sans-serif\; font-size:14px">&nbsp\;together Hudson Valley designers\, makers and tradespeople to create 16 spaces</span><span style="font-family:arial\,helvetica\,sans-serif\; font-size:14px">&nbsp\;in uptown Kingston.</span><span style="font-family:arial\,helvetica\,sans-serif\; font-size:14px">&nbsp\;The p</span><span style="font-family:arial\,helvetica\,sans-serif\; font-size:14px">roceeds of this event go to Family of Woodstock supporting adolescents who are homeless and without family support.</span>
LOCATION:The Wiltwyck 302 Clinton Avenue Kingston\, NY 12401
UID:e.2770.10482495
SEQUENCE:3
DTSTAMP:20260422T182823Z
URL:https://business.dcrcoc.org/events/details/second-annual-design-showhouse-10482495
END:VEVENT

END:VCALENDAR
