BEGIN:VCALENDAR
VERSION:2.0
PRODID:-//ChamberMaster//Event Calendar 2.0//EN
METHOD:PUBLISH
X-PUBLISHED-TTL:P3D
REFRESH-INTERVAL:P3D
CALSCALE:GREGORIAN
BEGIN:VEVENT
DTSTART:20180203T223000Z
DTEND:20180204T040000Z
X-MICROSOFT-CDO-ALLDAYEVENT:FALSE
SUMMARY:Secret Garden Gala
DESCRIPTION:***A limited number of tickets may still be available for purchase\, please call 845-454-1700 ext. 1050 as soon as possible. \n\n\n\nOur annual gala is a premier black-tie event\, featuring extended cocktail hour\, full three course dinner\, premium open bar and great music!\n\n\n\nPlatinum Sponsor: IBM Corporation
X-ALT-DESC;FMTTYPE=text/html:<span style="font-family: arial\;"><span style="font-size: 14px\;">***A limited number of tickets may still be available for purchase\, please call 845-454-1700 ext. 1050 as soon as possible.&nbsp\;<br />\n<br />\nOur annual gala is a premier black-tie event\, featuring extended cocktail hour\, full three course dinner\, premium open bar and great music!<br />\n<br />\nPlatinum&nbsp\;Sponsor<font color="#000000">: <a href="http://www.ibm.com" target="_blank">IBM Corporation</a></font></span></span>\n<div>&nbsp\;</div>\n\n<div>&nbsp\;</div>\n
LOCATION:The Grandview 176 Rinaldi Boulevard Poughkeepsie\, NY 12601
UID:e.2770.10476407
SEQUENCE:3
DTSTAMP:20260425T222036Z
URL:https://business.dcrcoc.org/events/details/secret-garden-gala-10476407
END:VEVENT

END:VCALENDAR
