BEGIN:VCALENDAR
VERSION:2.0
PRODID:-//ChamberMaster//Event Calendar 2.0//EN
METHOD:PUBLISH
X-PUBLISHED-TTL:P3D
REFRESH-INTERVAL:P3D
CALSCALE:GREGORIAN
BEGIN:VEVENT
DTSTART:20180407T160000Z
DTEND:20180407T160000Z
X-MICROSOFT-CDO-ALLDAYEVENT:FALSE
SUMMARY:Seed Swap
DESCRIPTION:The annual Seed Swap will take place during the eTextile Spring Social from 3-4pm. Bring any seed that you are willing to swap for the other varieties and The Wassaic Project will provide packets to bring your new seeds home in. Attendees are encouraged to bring a few of their own packets as well and if you do not have any seeds to share\, do not fret- join anyways and consider bringing something else to share.
X-ALT-DESC;FMTTYPE=text/html:The annual Seed Swap will take place during the eTextile Spring Social from 3-4pm. Bring any seed that you are willing to swap for the other varieties and The Wassaic Project will provide packets to bring your new seeds home in. Attendees are encouraged to bring a few of their own packets as well and if you do not have any seeds to share\, do not fret- join anyways and consider bringing something else to share.
LOCATION:37 Furnace Bank Road Wassaic NY 12592
UID:e.2770.10477164
SEQUENCE:3
DTSTAMP:20260425T194743Z
URL:https://business.dcrcoc.org/events/details/seed-swap-10477164
END:VEVENT

END:VCALENDAR
