BEGIN:VCALENDAR
VERSION:2.0
PRODID:-//ChamberMaster//Event Calendar 2.0//EN
METHOD:PUBLISH
X-PUBLISHED-TTL:P3D
REFRESH-INTERVAL:P3D
CALSCALE:GREGORIAN
BEGIN:VEVENT
DTSTART:20170926T223000Z
DTEND:20171018T000000Z
X-MICROSOFT-CDO-ALLDAYEVENT:FALSE
SUMMARY:Self-Hypnosis for Stress Management and More
DESCRIPTION:Hypnosis is a heightened state of concentration in which the body and conscious mind are relaxed\, while the subconscious mind remains alert and receptive to positive suggestions for change. In this hands-on class\, you'll learn how to relax your mind and body to experience hypnosis. Hypnosis is a skill that anyone can learn and it's an excellent tool for smoking cessation\, weight management\, and stress reduction. This course meets for 4 consecutive weeks and each week builds off the previous week's lesson.
X-ALT-DESC;FMTTYPE=text/html:Hypnosis is a heightened state of concentration in which the body and conscious mind are relaxed\, while the subconscious mind remains alert and receptive to positive suggestions for change. In this hands-on class\, you&#39\;ll learn how to relax your mind and body to experience hypnosis. Hypnosis is a skill that anyone can learn and it&#39\;s an excellent tool for smoking cessation\, weight management\, and stress reduction. This course meets for 4 consecutive weeks and each week builds off the previous week&#39\;s lesson.
LOCATION:Red Hook High School\, 103 West Market Street\, Red Hook\, NY 12571. Room 141.
UID:e.2770.10476240
SEQUENCE:3
DTSTAMP:20260426T033450Z
URL:https://business.dcrcoc.org/events/details/self-hypnosis-for-stress-management-and-more-09-26-2017-10476240
END:VEVENT

END:VCALENDAR
