BEGIN:VCALENDAR
VERSION:2.0
PRODID:-//ChamberMaster//Event Calendar 2.0//EN
METHOD:PUBLISH
X-PUBLISHED-TTL:P3D
REFRESH-INTERVAL:P3D
CALSCALE:GREGORIAN
BEGIN:VEVENT
DTSTART:20180208T233000Z
DTEND:20180209T003000Z
X-MICROSOFT-CDO-ALLDAYEVENT:FALSE
SUMMARY:Seminar: Blueprint for Financial Success
DESCRIPTION:Want to learn how to build a strong financial foundation? During our free seminar\, "Blueprint for financial success\," we will explore the basics of building financial security\, including managing debt\, growing savings\, and safeguarding against risk and unexpected events. All participants will receive a complimentary workbook.
X-ALT-DESC;FMTTYPE=text/html:<span style="color:rgb(75\, 79\, 86)\; font-family:sf optimized\,system-ui\,-apple-system\,system-ui\,.sfnstext-regular\,sans-serif\; font-size:14px">Want to learn how to build a strong financial foundation? During our free seminar\, &ldquo\;Blueprint for financial success\,&rdquo\; we will explore the basics of building financial security\, including managing debt\, growing savings\, and safeguarding against risk and unexpected events. All participants will receive a complimentary workbook.</span>
LOCATION:Moffat Library of Washingtonville 3348 State Route 208\, Campbell Hall\, New York 10916
UID:e.2770.10476466
SEQUENCE:3
DTSTAMP:20260425T232441Z
URL:https://business.dcrcoc.org/events/details/seminar-blueprint-for-financial-success-02-08-2018-10476466
END:VEVENT

END:VCALENDAR
