BEGIN:VCALENDAR
VERSION:2.0
PRODID:-//ChamberMaster//Event Calendar 2.0//EN
METHOD:PUBLISH
X-PUBLISHED-TTL:P3D
REFRESH-INTERVAL:P3D
CALSCALE:GREGORIAN
BEGIN:VEVENT
DTSTART:20180223T000000Z
DTEND:20180223T010000Z
X-MICROSOFT-CDO-ALLDAYEVENT:FALSE
SUMMARY:Seminar: Blueprint for Financial Success
DESCRIPTION:Want to learn how to build a strong financial foundation? During our free seminar\, "Blueprint for financial success\," we will explore the basics of building financial security\, including managing debt\, growing savings\, and safeguarding against risk and unexpected events. All participants will receive a complimentary workbook.
X-ALT-DESC;FMTTYPE=text/html:<div><span style="font-family:inherit\; font-size:14px">Want to learn how to build a strong financial foundation? During our free seminar\, &ldquo\;Blueprint for financial success\,&rdquo\; we will explore the basics of building financial security\, including managing debt\, growing savings\, and safeguarding against risk and unexpected events. All participants will receive a complimentary workbook.</span></div>\n\n<div>&nbsp\;</div>\n\n<div>\n<div>&nbsp\;</div>\n</div>\n
LOCATION:Boardman Road Branch Library 141 Boardman Rd\, Poughkeepsie\, New York 12603
UID:e.2770.10476468
SEQUENCE:3
DTSTAMP:20260425T222337Z
URL:https://business.dcrcoc.org/events/details/seminar-blueprint-for-financial-success-02-22-2018-10476468
END:VEVENT

END:VCALENDAR
