BEGIN:VCALENDAR
VERSION:2.0
PRODID:-//ChamberMaster//Event Calendar 2.0//EN
METHOD:PUBLISH
X-PUBLISHED-TTL:P3D
REFRESH-INTERVAL:P3D
CALSCALE:GREGORIAN
BEGIN:VEVENT
DTSTART:20190903T223000Z
DTEND:20190903T233000Z
X-MICROSOFT-CDO-ALLDAYEVENT:FALSE
SUMMARY:Seminar: Blueprint for Financial Success
DESCRIPTION:Want to learn how to build a strong financial foundation? During our free seminar\, "Blueprint for financial success\," we will explore the basics of building financial security\, including managing debt\, growing savings\, and safeguarding against risk and unexpected events. All participants will receive a complimentary workbook.
X-ALT-DESC;FMTTYPE=text/html:<span style="color:rgb(29\, 33\, 41)\; font-family:system-ui\,-apple-system\,system-ui\,.sfnstext-regular\,sans-serif\; font-size:14px">Want to learn how to build a strong financial foundation? During our free seminar\, &ldquo\;Blueprint for financial success\,&rdquo\; we will explore the basics of building financial security\, including managing debt\, growing savings\, and safeguarding against risk and unexpected events. All participants will receive a complimentary workbook.</span>
LOCATION:Kent Public Library 17 Sybils Xing\, Carmel\, New York 10512
UID:e.2770.10481155
SEQUENCE:3
DTSTAMP:20260422T221025Z
URL:https://business.dcrcoc.org/events/details/seminar-blueprint-for-financial-success-09-03-2019-10481155
END:VEVENT

END:VCALENDAR
