BEGIN:VCALENDAR
VERSION:2.0
PRODID:-//ChamberMaster//Event Calendar 2.0//EN
METHOD:PUBLISH
X-PUBLISHED-TTL:P3D
REFRESH-INTERVAL:P3D
CALSCALE:GREGORIAN
BEGIN:VEVENT
DTSTART:20171202T180000Z
DTEND:20171202T190000Z
X-MICROSOFT-CDO-ALLDAYEVENT:FALSE
SUMMARY:Seminar: Choosing Your Retirement Path
DESCRIPTION:From financial concerns to sound solutions\, let's talk about the challenges you face as you navigate the road toward retirement. Join me for the Choose Your Retirement Path Seminar--a free discussion and presentation that can point you in the right direction. If you have questions or would like more information\, please feel free to contact me--I'm here to help.
X-ALT-DESC;FMTTYPE=text/html:<span style="color:rgb(75\, 79\, 86)\; font-family:sf optimized\,system-ui\,-apple-system\,system-ui\,.sfnstext-regular\,sans-serif\; font-size:14px">From financial concerns to sound solutions\, let&#39\;s talk about the challenges you face as you navigate the road toward retirement. Join me for the Choose Your Retirement Path Seminar--a free discussion and presentation that can point you in the right direction. If you have questions or would like more information\, please feel free to contact me--I&#39\;m here to help.</span>
LOCATION:Blodgett Memorial Library Fishkill NY 37 Broad St\, Fishkill\, New York 12524
UID:e.2770.10476459
SEQUENCE:3
DTSTAMP:20260426T020455Z
URL:https://business.dcrcoc.org/events/details/seminar-choosing-your-retirement-path-12-02-2017-10476459
END:VEVENT

END:VCALENDAR
