BEGIN:VCALENDAR
VERSION:2.0
PRODID:-//ChamberMaster//Event Calendar 2.0//EN
METHOD:PUBLISH
X-PUBLISHED-TTL:P3D
REFRESH-INTERVAL:P3D
CALSCALE:GREGORIAN
BEGIN:VEVENT
DTSTART:20171207T233000Z
DTEND:20171208T003000Z
X-MICROSOFT-CDO-ALLDAYEVENT:FALSE
SUMMARY:Seminar: Choosing Your Retirement Path
DESCRIPTION:Did you know?\n\n* If you retire at 65\, you can expect to live until 86.\n\n* If you celebrate your 86th birthday\, you can expect to live until age 93.\n\nThis seminar will look at longevity\, surviving the loss of a spouse\, health care costs\, inflation\, and leaving a legacy.\n\n\n\nWe'll examine solutions including\n\n* Optimixing your investment portfolio\n\n* Minimizing income taxes\n\n* Planning for extended periods of care\n\n* Considering guaranteed income for life\, and other sources of retirement income.
X-ALT-DESC;FMTTYPE=text/html:<span style="color:rgb(75\, 79\, 86)\; font-family:sf optimized\,system-ui\,-apple-system\,system-ui\,.sfnstext-regular\,sans-serif\; font-size:14px">Did you know?</span><br />\n<span style="color:rgb(75\, 79\, 86)\; font-family:sf optimized\,system-ui\,-apple-system\,system-ui\,.sfnstext-regular\,sans-serif\; font-size:14px">* If you retire at 65\, you can expect to live until 86.</span><br />\n<span style="color:rgb(75\, 79\, 86)\; font-family:sf optimized\,system-ui\,-apple-system\,system-ui\,.sfnstext-regular\,sans-serif\; font-size:14px">* If you celebrate your 86th birthday\, you can expect to live until age 93.</span><br />\n<span style="color:rgb(75\, 79\, 86)\; font-family:sf optimized\,system-ui\,-apple-system\,system-ui\,.sfnstext-regular\,sans-serif\; font-size:14px">This seminar will look at longevity\, surviving the loss of a spouse\, health care costs\, inflation\, and leaving a legacy.</span><br />\n<br />\n<span style="color:rgb(75\, 79\, 86)\; font-family:sf optimized\,system-ui\,-apple-system\,system-ui\,.sfnstext-regular\,sans-serif\; font-size:14px">We&#39\;ll examine solutions including</span><br />\n<span style="color:rgb(75\, 79\, 86)\; font-family:sf optimized\,system-ui\,-apple-system\,system-ui\,.sfnstext-regular\,sans-serif\; font-size:14px">* Optimixing your investment portfolio</span><br />\n<span style="color:rgb(75\, 79\, 86)\; font-family:sf optimized\,system-ui\,-apple-system\,system-ui\,.sfnstext-regular\,sans-serif\; font-size:14px">* Minimizing income taxes</span><br />\n<span style="color:rgb(75\, 79\, 86)\; font-family:sf optimized\,system-ui\,-apple-system\,system-ui\,.sfnstext-regular\,sans-serif\; font-size:14px">* Planning for extended periods of care</span><br />\n<span style="color:rgb(75\, 79\, 86)\; font-family:sf optimized\,system-ui\,-apple-system\,system-ui\,.sfnstext-regular\,sans-serif\; font-size:14px">* Considering guaranteed income for life\, and other sources of retirement income.</span>
LOCATION:Howland Public Library 313 Main St\, Beacon\, New York 12508
UID:e.2770.10476460
SEQUENCE:3
DTSTAMP:20260426T004824Z
URL:https://business.dcrcoc.org/events/details/seminar-choosing-your-retirement-path-12-07-2017-10476460
END:VEVENT

END:VCALENDAR
