BEGIN:VCALENDAR
VERSION:2.0
PRODID:-//ChamberMaster//Event Calendar 2.0//EN
METHOD:PUBLISH
X-PUBLISHED-TTL:P3D
REFRESH-INTERVAL:P3D
CALSCALE:GREGORIAN
BEGIN:VEVENT
DTSTART:20180209T233000Z
DTEND:20180210T003000Z
X-MICROSOFT-CDO-ALLDAYEVENT:FALSE
SUMMARY:Seminar: LifeFolio
DESCRIPTION:Being organized is one of the keys to efficiency\, but most people would find it a challenge to locate their critical documents when they needed them the most. Join us to learn how organization can help with your estate planning. This is valuable advice for you and your loved ones.
X-ALT-DESC;FMTTYPE=text/html:<span style="color:rgb(75\, 79\, 86)\; font-family:sf optimized\,system-ui\,-apple-system\,system-ui\,.sfnstext-regular\,sans-serif\; font-size:14px">Being organized is one of the keys to efficiency\, but most people would find it a challenge to locate their critical documents when they needed them the most. Join us to learn how organization can help with your estate planning. This is valuable advice for you and your loved ones.</span>
LOCATION:Clinton Community Library 1215 Centre Rd\, Rhinebeck\, New York 12572
UID:e.2770.10476467
SEQUENCE:3
DTSTAMP:20260425T232147Z
URL:https://business.dcrcoc.org/events/details/seminar-lifefolio-10476467
END:VEVENT

END:VCALENDAR
