BEGIN:VCALENDAR
VERSION:2.0
PRODID:-//ChamberMaster//Event Calendar 2.0//EN
METHOD:PUBLISH
X-PUBLISHED-TTL:P3D
REFRESH-INTERVAL:P3D
CALSCALE:GREGORIAN
BEGIN:VEVENT
DTSTART:20180309T233000Z
DTEND:20180310T003000Z
X-MICROSOFT-CDO-ALLDAYEVENT:FALSE
SUMMARY:Seminar: Money Talks
DESCRIPTION:Join us to learn ways to talk to your children about the importance of managing money. From helpful tips to valuable conversation starters\, these are smart lessons that can help them for a lifetime.
X-ALT-DESC;FMTTYPE=text/html:<span style="color:rgb(75\, 79\, 86)\; font-family:sf optimized\,system-ui\,-apple-system\,system-ui\,.sfnstext-regular\,sans-serif\; font-size:14px">Join us to learn ways to talk to your children about the importance of managing money. From helpful tips to valuable conversation starters\, these are smart lessons that can help them for a lifetime.</span>
LOCATION:Clinton Community Library 1215 Centre Rd\, Rhinebeck\, New York 12572
UID:e.2770.10476469
SEQUENCE:3
DTSTAMP:20260425T210453Z
URL:https://business.dcrcoc.org/events/details/seminar-money-talks-03-09-2018-10476469
END:VEVENT

END:VCALENDAR
