BEGIN:VCALENDAR
VERSION:2.0
PRODID:-//ChamberMaster//Event Calendar 2.0//EN
METHOD:PUBLISH
X-PUBLISHED-TTL:P3D
REFRESH-INTERVAL:P3D
CALSCALE:GREGORIAN
BEGIN:VEVENT
DTSTART:20180426T230000Z
DTEND:20180427T000000Z
X-MICROSOFT-CDO-ALLDAYEVENT:FALSE
SUMMARY:Seminar: Money Talks
DESCRIPTION:Join us to learn ways to talk to your children about the importance of managing money. From helpful tips to valuable conversation starters\, these are smart lessons that can help them for a lifetime.
X-ALT-DESC;FMTTYPE=text/html:<span style="color:rgb(75\, 79\, 86)\; font-family:sf optimized\,system-ui\,-apple-system\,system-ui\,.sfnstext-regular\,sans-serif\; font-size:14px">Join us to learn ways to talk to your children about the importance of managing money. From helpful tips to valuable conversation starters\, these are smart lessons that can help them for a lifetime.</span>
LOCATION:Boardman Road Branch Library 141 Boardman Rd\, Poughkeepsie\, New York 12603
UID:e.2770.10476470
SEQUENCE:3
DTSTAMP:20260425T194942Z
URL:https://business.dcrcoc.org/events/details/seminar-money-talks-04-18-2018-10476470
END:VEVENT

END:VCALENDAR
