BEGIN:VCALENDAR
VERSION:2.0
PRODID:-//ChamberMaster//Event Calendar 2.0//EN
METHOD:PUBLISH
X-PUBLISHED-TTL:P3D
REFRESH-INTERVAL:P3D
CALSCALE:GREGORIAN
BEGIN:VEVENT
DTSTART:20180118T230000Z
DTEND:20180119T000000Z
X-MICROSOFT-CDO-ALLDAYEVENT:FALSE
SUMMARY:Seminar: Money Talks
DESCRIPTION:Join us to learn ways to talk to your children about the importance of managing money. From helpful tips to valuable conversation starters\, these are smart lessons that can help them for a lifetime.
X-ALT-DESC;FMTTYPE=text/html:<span style="color:rgb(75\, 79\, 86)\; font-family:sf optimized\,system-ui\,-apple-system\,system-ui\,.sfnstext-regular\,sans-serif\; font-size:14px">Join us to learn ways to talk to your children about the importance of managing money. From helpful tips to valuable conversation starters\, these are smart lessons that can help them for a lifetime.</span>
LOCATION:Beekman Public Library 11 Town Center Blvd\, Hopewell Junction\, New York 12533
UID:e.2770.10476463
SEQUENCE:3
DTSTAMP:20260425T232146Z
URL:https://business.dcrcoc.org/events/details/seminar-money-talks-10476463
END:VEVENT

END:VCALENDAR
