BEGIN:VCALENDAR
VERSION:2.0
PRODID:-//ChamberMaster//Event Calendar 2.0//EN
METHOD:PUBLISH
X-PUBLISHED-TTL:P3D
REFRESH-INTERVAL:P3D
CALSCALE:GREGORIAN
BEGIN:VEVENT
DTSTART:20190917T223000Z
DTEND:20190917T233000Z
X-MICROSOFT-CDO-ALLDAYEVENT:FALSE
SUMMARY:Seminar: Risks and Rewards in Retirement Income Planning
DESCRIPTION:How much of the money you have saved for retirement will produce income for you to live on\, and how much may go to other purposes during your later years? Learn how to make choices to best preserve your savings from taxes\, brokerage fees\, inflation\, market risk\, and unforeseen care expenses.
X-ALT-DESC;FMTTYPE=text/html:<div>\n<div>\n<div>\n<div>\n<div>\n<div>\n<div><span style="font-family:inherit">How much of the money you have saved for retirement will produce income for you to live on\, and how much may go to other purposes during your later years? Learn how to make choices to best preserve your savings from taxes\, brokerage fees\, inflation\, market risk\, and unforeseen care expenses.</span></div>\n</div>\n</div>\n</div>\n</div>\n</div>\n</div>\n\n<div>\n<div>\n<div>&nbsp\;</div>\n</div>\n</div>\n
LOCATION:Kent Public Library 17 Sybils Xing\, Carmel\, New York 10512
UID:e.2770.10481157
SEQUENCE:3
DTSTAMP:20260422T221026Z
URL:https://business.dcrcoc.org/events/details/seminar-risks-and-rewards-in-retirement-income-planning-10481157
END:VEVENT

END:VCALENDAR
