BEGIN:VCALENDAR
VERSION:2.0
PRODID:-//ChamberMaster//Event Calendar 2.0//EN
METHOD:PUBLISH
X-PUBLISHED-TTL:P3D
REFRESH-INTERVAL:P3D
CALSCALE:GREGORIAN
BEGIN:VEVENT
DTSTART:20190910T223000Z
DTEND:20190910T233000Z
X-MICROSOFT-CDO-ALLDAYEVENT:FALSE
SUMMARY:Seminar: Tax Diversify to Protect Your Retirement Income
DESCRIPTION:Retirement isn't what it used to be\, especially with people living longer and spending more of their lives as retirees. Personal savings are seemingly more important now than at any time for generations. Tax-diversifying your income sources can have a major impact on how long your savings will last and how much you are able to spend.
X-ALT-DESC;FMTTYPE=text/html:<span style="color:rgb(29\, 33\, 41)\; font-family:system-ui\,-apple-system\,system-ui\,.sfnstext-regular\,sans-serif\; font-size:14px">Retirement isn&#39\;t what it used to be\, especially with people living longer and spending more of their lives as retirees. Personal savings are seemingly more important now than at any time for generations. Tax-diversifying your income sources can have a major impact on how long your savings will last and how much you are able to spend.</span>
LOCATION:Kent Public Library 17 Sybils Xing\, Carmel\, New York 10512
UID:e.2770.10481156
SEQUENCE:3
DTSTAMP:20260422T221228Z
URL:https://business.dcrcoc.org/events/details/seminar-tax-diversify-to-protect-your-retirement-income-10481156
END:VEVENT

END:VCALENDAR
