BEGIN:VCALENDAR
VERSION:2.0
PRODID:-//ChamberMaster//Event Calendar 2.0//EN
METHOD:PUBLISH
X-PUBLISHED-TTL:P3D
REFRESH-INTERVAL:P3D
CALSCALE:GREGORIAN
BEGIN:VEVENT
DTSTART:20180224T150000Z
DTEND:20180224T160000Z
X-MICROSOFT-CDO-ALLDAYEVENT:FALSE
SUMMARY:Seminar: Tax Diversify Your Retirement Plan
DESCRIPTION:Retirement isn't what it used to be especially with people living longer and spending more of their lives as retirees. With fewer companies offering pensions\, and Social Security facing an uncertain future\, the way we fund our retirement is changing\, too.\n\nAnd tax rates? While they may be at historic lows now\, there's no telling where they'll be in the future and how they'll impact your retirement income.\n\nSo\, how can you keep more of the savings you've worked a lifetime to enjoy? Join us for a presentation and discussion.
X-ALT-DESC;FMTTYPE=text/html:<span style="color:rgb(75\, 79\, 86)\; font-family:sf optimized\,system-ui\,-apple-system\,system-ui\,.sfnstext-regular\,sans-serif\; font-size:14px">Retirement isn&rsquo\;t what it used to be&mdash\;especially with people living longer and spending more of their lives as retirees. With fewer companies offering pensions\, and Social Security facing an uncertain future\, the way we fund our retirement is changing\, too.</span><br />\n<span style="color:rgb(75\, 79\, 86)\; font-family:sf optimized\,system-ui\,-apple-system\,system-ui\,.sfnstext-regular\,sans-serif\; font-size:14px">And tax rates? While they may be at historic lows now\, there&rsquo\;s no telling where they&rsquo\;ll be in the future and how they&rsquo\;ll impact your retirement income.</span><br />\n<span style="color:rgb(75\, 79\, 86)\; font-family:sf optimized\,system-ui\,-apple-system\,system-ui\,.sfnstext-regular\,sans-serif\; font-size:14px">So\, how can you keep more of the savings you&rsquo\;ve worked a lifetime to enjoy? Join us for a presentation and discussion.</span>
LOCATION:Pine Plains Free Library\, 7775 South Main St\, Pine Plains\, New York 12567
UID:e.2770.10476727
SEQUENCE:3
DTSTAMP:20260425T222322Z
URL:https://business.dcrcoc.org/events/details/seminar-tax-diversify-your-retirement-plan-02-24-2018-10476727
END:VEVENT

END:VCALENDAR
