BEGIN:VCALENDAR
VERSION:2.0
PRODID:-//ChamberMaster//Event Calendar 2.0//EN
METHOD:PUBLISH
X-PUBLISHED-TTL:P3D
REFRESH-INTERVAL:P3D
CALSCALE:GREGORIAN
BEGIN:VEVENT
DTSTART:20171130T000000Z
DTEND:20171130T010000Z
X-MICROSOFT-CDO-ALLDAYEVENT:FALSE
SUMMARY:Seminar: Tax Diversify Your Retirement Plan
DESCRIPTION:Retirement isn't what it used to be--especially with people living longer and spending more of their lives as retirees. Join us for our free tax Diversification Seminar\, where you'll learn:\n\n* Why you should tax diversify your retirement portfolio\n\n* Where your retirement income may come from\n\n* What impact taxes can have on your retirement income.
X-ALT-DESC;FMTTYPE=text/html:<span style="color:rgb(75\, 79\, 86)\; font-family:sf optimized\,system-ui\,-apple-system\,system-ui\,.sfnstext-regular\,sans-serif\; font-size:14px">Retirement isn&#39\;t what it used to be--especially with people living longer and spending more of their lives as retirees. Join us for our free tax Diversification Seminar\, where you&#39\;ll learn:</span><br />\n<span style="color:rgb(75\, 79\, 86)\; font-family:sf optimized\,system-ui\,-apple-system\,system-ui\,.sfnstext-regular\,sans-serif\; font-size:14px">* Why you should tax diversify your retirement portfolio</span><br />\n<span style="color:rgb(75\, 79\, 86)\; font-family:sf optimized\,system-ui\,-apple-system\,system-ui\,.sfnstext-regular\,sans-serif\; font-size:14px">* Where your retirement income may come from</span><br />\n<span style="color:rgb(75\, 79\, 86)\; font-family:sf optimized\,system-ui\,-apple-system\,system-ui\,.sfnstext-regular\,sans-serif\; font-size:14px">* What impact taxes can have on your retirement income.</span>
LOCATION:Putnam Valley Library 30 Oscawana Lake Rd\, Putnam Valley\, New York 10579
UID:e.2770.10476458
SEQUENCE:3
DTSTAMP:20260426T020534Z
URL:https://business.dcrcoc.org/events/details/seminar-tax-diversify-your-retirement-plan-10476458
END:VEVENT

END:VCALENDAR
