BEGIN:VCALENDAR
VERSION:2.0
PRODID:-//ChamberMaster//Event Calendar 2.0//EN
METHOD:PUBLISH
X-PUBLISHED-TTL:P3D
REFRESH-INTERVAL:P3D
CALSCALE:GREGORIAN
BEGIN:VEVENT
DTSTART:20190924T223000Z
DTEND:20190924T233000Z
X-MICROSOFT-CDO-ALLDAYEVENT:FALSE
SUMMARY:Seminar: The Art of Long-Term Care Planning
DESCRIPTION:The right long-term care plan can help safeguard your family\, your savings\, your retirement and your peace of mind. By the end of this session you'll have a personalized plan and valuable knowledge to help prepare for the future.
X-ALT-DESC;FMTTYPE=text/html:<span style="color:rgb(29\, 33\, 41)\; font-family:system-ui\,-apple-system\,system-ui\,.sfnstext-regular\,sans-serif\; font-size:14px">The right long-term care plan can help safeguard your family\, your savings\, your retirement&mdash\;and your peace of mind. By the end of this session you&#39\;ll have a personalized plan and valuable knowledge to help prepare for the future.</span>
LOCATION:Kent Public Library 17 Sybils Xing\, Carmel\, New York 10512
UID:e.2770.10481158
SEQUENCE:3
DTSTAMP:20260422T221015Z
URL:https://business.dcrcoc.org/events/details/seminar-the-art-of-long-term-care-planning-10481158
END:VEVENT

END:VCALENDAR
