BEGIN:VCALENDAR
VERSION:2.0
PRODID:-//ChamberMaster//Event Calendar 2.0//EN
METHOD:PUBLISH
X-PUBLISHED-TTL:P3D
REFRESH-INTERVAL:P3D
CALSCALE:GREGORIAN
BEGIN:VEVENT
DTSTART:20191017T150000Z
DTEND:20191017T200000Z
X-MICROSOFT-CDO-ALLDAYEVENT:FALSE
SUMMARY:Senior Carnival
DESCRIPTION:Senior Carnival featuring vendors servicing the senior community\, games\, prizes\, entertainment and food trucks. Free shuttle services offered from the old YMCA on Montgomery to The Pines.
X-ALT-DESC;FMTTYPE=text/html:Senior Carnival featuring vendors servicing the senior community\, games\, prizes\, entertainment and food trucks. Free shuttle services offered from the old YMCA on Montgomery to The Pines.
LOCATION:The Pines at Poughkeepsie 100 Franklin Street Poughkeepsie\, NY 12601
UID:e.2770.10482499
SEQUENCE:3
DTSTAMP:20260422T182801Z
URL:https://business.dcrcoc.org/events/details/senior-carnival-10482499
END:VEVENT

END:VCALENDAR
