BEGIN:VCALENDAR
VERSION:2.0
PRODID:-//ChamberMaster//Event Calendar 2.0//EN
METHOD:PUBLISH
X-PUBLISHED-TTL:P3D
REFRESH-INTERVAL:P3D
CALSCALE:GREGORIAN
BEGIN:VEVENT
DTSTART;VALUE=DATE:20190910
DTEND;VALUE=DATE:20190911
TRANSP:TRANSPARENT
X-MICROSOFT-CDO-ALLDAYEVENT:TRUE
SUMMARY:Seniors and Ladies Days
DESCRIPTION:Enjoy our senior and ladies days! Every Monday\, Tuesday\, and Thursday all season long! $55 Greens Fees and includes cart! Here at The Links at Union Vale!
X-ALT-DESC;FMTTYPE=text/html:Enjoy our senior and ladies days! Every Monday\, Tuesday\, and Thursday all season long! $55 Greens Fees and includes cart! Here at The Links at Union Vale!
LOCATION:153 N Parliman Rd LaGrangeville NY 12540
UID:e.2770.10481138
SEQUENCE:3
DTSTAMP:20260422T221016Z
URL:https://business.dcrcoc.org/events/details/seniors-and-ladies-days-09-10-2019-10481138
END:VEVENT

END:VCALENDAR
