BEGIN:VCALENDAR
VERSION:2.0
PRODID:-//ChamberMaster//Event Calendar 2.0//EN
METHOD:PUBLISH
X-PUBLISHED-TTL:P3D
REFRESH-INTERVAL:P3D
CALSCALE:GREGORIAN
BEGIN:VEVENT
DTSTART:20180720T210000Z
DTEND:20180720T230000Z
X-MICROSOFT-CDO-ALLDAYEVENT:FALSE
SUMMARY:Shabbat Together Community Shabbat Program & Dinner
DESCRIPTION:Summer Edition! New Location! All are Welcome! Join us for an evening of activities\, traditions and new connections. 5:00 Family Kickball\, Coloring & Games 5:30-6:00 Shabbat Dinner 6:00 Dessert 6:10 Kids Story Time 6:20 Drum Circle\, Birkat Hamazon & Rhythm Kabbalat Shabbat Please feel free to join the fun at any point in the evening.
X-ALT-DESC;FMTTYPE=text/html:Summer Edition! New Location! All are Welcome! Join us for an evening of activities\, traditions and new connections. 5:00 Family Kickball\, Coloring &amp\; Games 5:30-6:00 Shabbat Dinner 6:00 Dessert 6:10 Kids Story Time 6:20 Drum Circle\, Birkat Hamazon &amp\; Rhythm Kabbalat Shabbat Please feel free to join the fun at any point in the evening.
LOCATION:Greenvale Park Pavilion 2260 New Hackensack Road in Poughkeepsie
UID:e.2770.10479276
SEQUENCE:3
DTSTAMP:20260425T154908Z
URL:https://business.dcrcoc.org/events/details/shabbat-together-community-shabbat-program-dinner-10479276
END:VEVENT

END:VCALENDAR
